BEGIN:VCALENDAR
VERSION:2.0
PRODID:-//demosphere.net//NONSGML kigkonsult.se iCalcreator 2.22.1//
METHOD:REQUEST
X-WR-TIMEZONE:Europe/Paris
BEGIN:VEVENT
UID:https://poitiers.demosphere.net/rv/4443
DTSTAMP:20260501T083000Z
DESCRIPTION:plus d'infos sur : https://poitiers.demosphere.net/rv/4443
DTSTART:20260501T083000Z
DTEND:20260501T093000Z
GEO:+46.584228;+0.336126
LOCATION:Poitiers\, \nViaduc Léon Blum\, Gare de Poitiers
SUMMARY:Manifestation. Gare\, Préfecture\, Place Lepetit.
URL:https://poitiers.demosphere.net/rv/4443
END:VEVENT
END:VCALENDAR
